Workbook

Sheet DADOS
A1: Prefeitura Municipal de Schroeder - SC
A2: SEMOSU - Secretaria Municipal de Obras e Serviços Urbanos
A3: Data do documento: | C3: 20/10/2022
A4: Licitação número:
A5: Lote:
A6: Dados da licitante
A7: Razão social
A8: CNPJ:
A9: Telefone:
A10: E-Mail:
A11: Nome responsável:
A12: CPF responsável:
A13: Cidade licitante:
A14: UF licitante:

Sheet Orçamento
A1: Prefeitura Municipal de Schroeder - SC
A2: Orcamento de obra - Silvio Pretti Est. OPP á Est. 5+17,90m
A3: Data: | B3: =DADOS!C3 -> 20/10/2022
A4: Empresa: | B4: =DADOS!C7 -> 0 | G4: Telefone: | H4: =DADOS!C9
A5: CNPJ: | B5: =DADOS!C8 | D5: Cidade: | E5: =DADOS!C13 -> 0 | H5: UF: | I5: =DADOS!C14 -> 0
A7: Item | B7: Descrição dos itens | C7: U.M. | D7: Qtde. | E7: Custo base R$ | F7: %BDI/K/TRDE Base | G7: Preço base R$ | H7: Custo Un. R$ | I7: %BDI/K/TRDE | J7: Preço Un. R$ | K7: Total R$
A8: 1 | B8: SILVIO PRETTI EST. OPP Á EST. 5+17,90M | K8: =SUM(K9:K51) -> 0 | L8: Etapa
A9: 1.1 | B9: ADMINISTRAÇÃO LOCAL DA OBRA | L9: Serviço
A10: 1.1.1 | B10: LOCAÇÃO DE BANHEIRO QUÍMICO, INCLUSO 1 LIMPEZA SEMANAL, ENTREGA E RETIRADA | C10: MÊS | D10: 3 | E10: 952.31 | F10: 20.7 | G10: 1149.44 | I10: =ROUND('BDI principal'!D14,2) -> 20.7 | J10: =ROUND((ROUND(H10,2)*I10/100)+ROUND(H10,2),2) -> 0 | K10: =ROUND(D10*J10,2) -> 0 | L10: Item
A11: 1.2 | B11: SERVIÇOS INICIAIS E DRENAGEM | L11: Serviço
A12: 1.2.1 | B12: PLACA DE OBRA EM CHAPA DE AÇO GALVANIZADO (2,40 M X 1,20 M), INCLUSO SARRAFO DE MADEIRA, PONTALETE, PLACA DE OBRA, PREÇO DE AÇO, CARPINTEIRO, SERVENTE, CONCRETO MAGRO. | C12: M2 | D12: 2.88 | E12: 297.12 | F12: 20.7 | G12: 358.62 | I12: =ROUND('BDI principal'!D14,2) -> 20.7 | J12: =ROUND((ROUND(H12,2)*I12/100)+ROUND(H12,2),2) -> 0 | K12: =ROUND(D12*J12,2) -> 0 | L12: Item
A13: 1.2.2 | B13: SERVIÇOS TOPOGRÁFICOS PARA PAVIMENTAÇÃO (LOCAÇÃO DO GREIDE E NIVELAMENTO), INCLUSIVE ACOMPANHAMENTO E NOTA DE SERVIÇOS. | C13: M2 | D13: 1179 | E13: 0.31 | F13: 20.7 | G13: 0.37 | I13: =ROUND('BDI principal'!D14,2) -> 20.7 | J13: =ROUND((ROUND(H13,2)*I13/100)+ROUND(H13,2),2) -> 0 | K13: =ROUND(D13*J13,2) -> 0 | L13: Item
A14: 1.2.3 | B14: REMOÇÃO DE RAÍZES/ÁRVORES (CONTAGEM DIRETA PROJETO) | C14: UN | D14: 1 | E14: 66.32 | F14: 20.7 | G14: 80.05 | I14: =ROUND('BDI principal'!D14,2) -> 20.7 | J14: =ROUND((ROUND(H14,2)*I14/100)+ROUND(H14,2),2) -> 0 | K14: =ROUND(D14*J14,2) -> 0 | L14: Item
A15: 1.2.4 | B15: DEMOLIÇÃO MECÂNICANIZADA DE CONCRETO ARMADO, SEM REAPROVEITAMENTO (MEDIÇÃO DIRETA PROJETO) | C15: M³ | D15: 1.63 | E15: 51.88 | F15: 20.7 | G15: 62.62 | I15: =ROUND('BDI principal'!D14,2) -> 20.7 | J15: =ROUND((ROUND(H15,2)*I15/100)+ROUND(H15,2),2) -> 0 | K15: =ROUND(D15*J15,2) -> 0 | L15: Item
A16: 1.2.5 | B16: TRANSPORTE DE ENTULHO DA DEMOLIÇÃO DE CONCRETO COM CAMINHÃO BASCULANTE, EM RODOVIA PAVIMENTADA, DMT CONSIDERADO 1,4KM | C16: M3XKM | D16: 2.97 | E16: 1.63 | F16: 20.7 | G16: 1.97 | I16: =ROUND('BDI principal'!D14,2) -> 20.7 | J16: =ROUND((ROUND(H16,2)*I16/100)+ROUND(H16,2),2) -> 0 | K16: =ROUND(D16*J16,2) -> 0 | L16: Item
A17: 1.2.6 | B17: FECHAMENTO DE BOCA DE LOBO (COM TAMPA DE CONCRETO) - BASE SINAP CÓD. 97904 (CONTAGEM DIRETA PROJETO) | C17: UN | D17: 8 | E17: 186.39 | F17: 20.7 | G17: 224.97 | I17: =ROUND('BDI principal'!D14,2) -> 20.7 | J17: =ROUND((ROUND(H17,2)*I17/100)+ROUND(H17,2),2) -> 0 | K17: =ROUND(D17*J17,2) -> 0 | L17: Item
A18: 1.2.7 | B18: ESCAVAÇÃO, CARGA DE MATERIAL DE 1ª CATEGORIA PARA BOTA FORA, COM TRATOR E CAÇAMBA 6 M³. ACRESCIDO 30% DE ÍNDICE DE EMPOLAMENTO DO MATERIAL | C18: M3 | D18: 15.8 | E18: 4.78 | F18: 20.7 | G18: 5.77 | I18: =ROUND('BDI principal'!D14,2) -> 20.7 | J18: =ROUND((ROUND(H18,2)*I18/100)+ROUND(H18,2),2) -> 0 | K18: =ROUND(D18*J18,2) -> 0 | L18: Item
A19: 1.2.8 | B19: TRANSPORTE DE MATERIAL DE 1ª CATEGORIA PARA BOTA FORA, COM CAMINHÃO BASCULANTE 10 M³. DMT 1,8 KM | C19: M3XKM | D19: 28.44 | E19: 1.52 | F19: 20.7 | G19: 1.83 | I19: =ROUND('BDI principal'!D14,2) -> 20.7 | J19: =ROUND((ROUND(H19,2)*I19/100)+ROUND(H19,2),2) -> 0 | K19: =ROUND(D19*J19,2) -> 0 | L19: Item
A20: 1.2.9 | B20: FORNECIMENTO E ASSENTAMENTO DE BRITA 2 PARA BERÇO EM TUBULAÇÃO, CONFORME PROJETO - PREPARO DE FUNDO DE VALA COM LARGURA MAIOR OU IGUAL A 1,5 M E MENOR QUE 2,5 M, COM CAMADA DE BRITA, LANÇAMENTO MECANIZADO. AF_08/2020 | C20: M3 | D20: 1.08 | E20: 151.61 | F20: 20.7 | G20: 182.99 | I20: =ROUND('BDI principal'!D14,2) -> 20.7 | J20: =ROUND((ROUND(H20,2)*I20/100)+ROUND(H20,2),2) -> 0 | K20: =ROUND(D20*J20,2) -> 0 | L20: Item
A21: 1.2.10 | B21: TUBO DE CONCRETO (SIMPLES) PARA REDES COLETORAS DE ÁGUAS PLUVIAIS CLASSE PS1, ENCAIXE MACHO E FEMEA, DIÂMETRO DE 300MM, INSTALADO EM LOCAL COM BAIXO NÍVEL INTERFERÊNCIAS - FORNECIMENTO E ASSENTAMENTO | C21: M | D21: 18 | E21: 60.98 | F21: 20.7 | G21: 73.6 | I21: =ROUND('BDI principal'!D14,2) -> 20.7 | J21: =ROUND((ROUND(H21,2)*I21/100)+ROUND(H21,2),2) -> 0 | K21: =ROUND(D21*J21,2) -> 0 | L21: Item
A22: 1.2.11 | B22: ATERRO MECANIZADO DE VALA COM ESCAVADEIRA HIDRÁULICA, COM MATERIAL DE JAZIDA. INCLUSO 30% DE ÍNDICE DE EMPOLAMENTO DO SOLO. | C22: M3 | D22: 16.6 | E22: 68.12 | F22: 20.7 | G22: 82.22 | I22: =ROUND('BDI principal'!D14,2) -> 20.7 | J22: =ROUND((ROUND(H22,2)*I22/100)+ROUND(H22,2),2) -> 0 | K22: =ROUND(D22*J22,2) -> 0 | L22: Item
A23: 1.2.12 | B23: TRANSPORTE DE MATERIAL PARA ATERRO COM CAMINHÃO BASCULANTE 10 M³, EM VIA PAVIMENTADA, DMT ATÉ 30 KM, (UNIDADE: M3 X KM). AF_12/2016 - CONSIDERADO 12 KM | C23: M3XKM | D23: 199.2 | E23: 1.52 | F23: 20.7 | G23: 1.83 | I23: =ROUND('BDI principal'!D14,2) -> 20.7 | J23: =ROUND((ROUND(H23,2)*I23/100)+ROUND(H23,2),2) -> 0 | K23: =ROUND(D23*J23,2) -> 0 | L23: Item
A24: 1.2.13 | B24: CAIXA COLETORA EM BLOCOS DE CONCRETO, ACABAMENTO INTERNO EM CHAPISCO, SOBRE LASTRO DE CONCRETO 10CM; | C24: UN | D24: 8 | E24: 699.57 | F24: 20.7 | G24: 844.38 | I24: =ROUND('BDI principal'!D14,2) -> 20.7 | J24: =ROUND((ROUND(H24,2)*I24/100)+ROUND(H24,2),2) -> 0 | K24: =ROUND(D24*J24,2) -> 0 | L24: Item
A25: 1.2.14 | B25: GRELHA DE FERRO FUNDIDO SIMPLES COM REQUADRO, ASSENTAMENTO EM ARGAMASSA CIMENTO/AREIA 1:4 (DIMENSÕES CONFORME PROJETO) - FORNECIMENTO E INSTALAÇÃO | C25: UN | D25: 8 | E25: 385.21 | F25: 20.7 | G25: 464.95 | I25: =ROUND('BDI principal'!D14,2) -> 20.7 | J25: =ROUND((ROUND(H25,2)*I25/100)+ROUND(H25,2),2) -> 0 | K25: =ROUND(D25*J25,2) -> 0 | L25: Item
A26: 1.2.15 | B26: CAIXA ENTERRADA DISTRIBUIDORA DE VAZÃO (SUMIDOUROS MÚLTIPLOS), RETANGULAR, EM ALVENARIA COM BLOCOS DE CONCRETO, DIMENSÕES INTERNAS: 0,60 X 0,60 X H=0,50 M. AF_12/2020 | C26: UN | D26: 7 | E26: 444.31 | F26: 20.7 | G26: 536.28 | I26: =ROUND('BDI principal'!D14,2) -> 20.7 | J26: =ROUND((ROUND(H26,2)*I26/100)+ROUND(H26,2),2) -> 0 | K26: =ROUND(D26*J26,2) -> 0 | L26: Item
A27: 1.3 | B27: EXECUÇÃO DA SUB BASE E/OU SUB LEITO | L27: Serviço
A28: 1.3.1 | B28: ESCAVAÇÃO HORIZONTAL, INCLUINDO ESCARIFICAÇÃO, CARGA, DESCARGA E TRANSPORTE EM SOLO DE 2A CATEGORIA COM TRATOR DE ESTEIRAS (347HP/LÂMINA: 8,70M3) E CAMINHÃO BASCULANTE DE 14M3, DMT ATÉ 200M. (REFERENTE AO NIVELAMENTO DA VIA, PROFUNDIDADE DE 20CM). | C28: M3 | D28: 235.8 | E28: 14.16 | F28: 20.7 | G28: 17.09 | I28: =ROUND('BDI principal'!D14,2) -> 20.7 | J28: =ROUND((ROUND(H28,2)*I28/100)+ROUND(H28,2),2) -> 0 | K28: =ROUND(D28*J28,2) -> 0 | L28: Item
A29: 1.3.2 | B29: TRANSPORTE DE SOLOS INSERVÍVEIS PARA BOTA FORA, COM CAMINHÃO BASCULANTE 10 M³,EM VIA URBANA PAVIMENTADA, DMT ATÉ 30 KM (UNIDADE: M3 X KM). AF_12/2016 - CONSIDERADO 1,8 KM | C29: M3XKM | D29: 424.44 | E29: 1.52 | F29: 20.7 | G29: 1.83 | I29: =ROUND('BDI principal'!D14,2) -> 20.7 | J29: =ROUND((ROUND(H29,2)*I29/100)+ROUND(H29,2),2) -> 0 | K29: =ROUND(D29*J29,2) -> 0 | L29: Item
A30: 1.3.3 | B30: EXECUÇÃO E COMPACTAÇÃO DE SUB BASE COM MACADAME SECO E=15CM | C30: M3 | D30: 176.85 | E30: 111.76 | F30: 20.7 | G30: 134.89 | I30: =ROUND('BDI principal'!D14,2) -> 20.7 | J30: =ROUND((ROUND(H30,2)*I30/100)+ROUND(H30,2),2) -> 0 | K30: =ROUND(D30*J30,2) -> 0 | L30: Item
A31: 1.3.4 | B31: TRANSPORTE DE SUB BASE COM CAMINHÃO BASCULANTE 10 M³, EM VIA PAVIMENTADA, DMT ATÉ 30 KM (UNIDADE: M3 X KM). AF_12/2016 - CONSIDERADO 12 KM, INCLUSO 30% DE ÍNDICE DE EMPOLAMENTO DO SOLO | C31: M3XKM | D31: 2758.86 | E31: 1.52 | F31: 20.7 | G31: 1.83 | I31: =ROUND('BDI principal'!D14,2) -> 20.7 | J31: =ROUND((ROUND(H31,2)*I31/100)+ROUND(H31,2),2) -> 0 | K31: =ROUND(D31*J31,2) -> 0 | L31: Item
A32: 1.4 | B32: EXECUÇÃO BASE | L32: Serviço
A33: 1.4.1 | B33: EXECUÇÃO E COMPACTAÇÃO DE BASE (E = 15 CM) COM BRITA GRADUADA SIMPLES - EXCLUSIVE CARGA E TRANSPORTE | C33: M3 | D33: 176.85 | E33: 125.07 | F33: 20.7 | G33: 150.96 | I33: =ROUND('BDI principal'!D14,2) -> 20.7 | J33: =ROUND((ROUND(H33,2)*I33/100)+ROUND(H33,2),2) -> 0 | K33: =ROUND(D33*J33,2) -> 0 | L33: Item
A34: 1.4.2 | B34: TRANSPORTE LOCAL COM CAMINHÃO BASCULANTE 10 M³, EM VIA PAVIMENTADA PARA DISTÂNCIAS SUPERIORES, DMT ATÉ 30 KM (UNIDADE: M3XKM). AF_12/2016 - CONSIDERADO DMT 12 KM | C34: M3XKM | D34: 2122.2 | E34: 1.52 | F34: 20.7 | G34: 1.83 | I34: =ROUND('BDI principal'!D14,2) -> 20.7 | J34: =ROUND((ROUND(H34,2)*I34/100)+ROUND(H34,2),2) -> 0 | K34: =ROUND(D34*J34,2) -> 0 | L34: Item
A35: 1.5 | B35: PAVIMENTAÇÃO | L35: Serviço
A36: 1.5.1 | B36: EXECUÇÃO DE IMPRIMAÇÃO COM ASFALTO DILUÍDO CM-30 - BASE SINAP CÓD. 96401. | C36: M2 | D36: 1179 | E36: 8.34 | F36: 20.7 | G36: 10.07 | I36: =ROUND('BDI principal'!D14,2) -> 20.7 | J36: =ROUND((ROUND(H36,2)*I36/100)+ROUND(H36,2),2) -> 0 | K36: =ROUND(D36*J36,2) -> 0 | L36: Item
A37: 1.5.2 | B37: EXECUÇÃO DA PINTURA DE LIGAÇÃO COM RR-2C | C37: M2 | D37: 1179 | E37: 2.36 | F37: 20.7 | G37: 2.85 | I37: =ROUND('BDI principal'!D14,2) -> 20.7 | J37: =ROUND((ROUND(H37,2)*I37/100)+ROUND(H37,2),2) -> 0 | K37: =ROUND(D37*J37,2) -> 0 | L37: Item
A38: 1.5.3 | B38: FORNECIMENTO E EXECUÇÃO (MATERIAL BETUMINOSO E AGREGADOS) E USINAGEM, E= 5,0 CM - CONCRETO BETUMINOSO USINADO A QUENTE (CBUQ) PARA PAVIMENTAÇÃO ASFALTICA - ROLO COMPACTADOR VIBRATÓRIO, ROLO COMPACTADOR DE PNEUS, RASTELEIRO, CAMINHÃO BASCULANTE 10 M³, VIBROACABADORA DE ASFALTO SOBRE ESTEIRAS | C38: M3 | D38: 58.95 | E38: 1191.21 | F38: 20.7 | G38: 1437.79 | I38: =ROUND('BDI principal'!D14,2) -> 20.7 | J38: =ROUND((ROUND(H38,2)*I38/100)+ROUND(H38,2),2) -> 0 | K38: =ROUND(D38*J38,2) -> 0 | L38: Item
A39: 1.5.4 | B39: TRANSPORTE DE MATERIAL ASFALTICO, COM CAMINHÃO COM CAPACIDADE DE 20000 L (CONSIDERADO DMT 35 KM) | C39: TXKM | D39: 4792.27 | E39: 1.54 | F39: 20.7 | G39: 1.86 | I39: =ROUND('BDI principal'!D14,2) -> 20.7 | J39: =ROUND((ROUND(H39,2)*I39/100)+ROUND(H39,2),2) -> 0 | K39: =ROUND(D39*J39,2) -> 0 | L39: Item
A40: 1.6 | B40: PASSEIO EM PAVER E GUIA DE MEIO FIO | L40: Serviço
A41: 1.6.1 | B41: FORNECIMENTO E ASSENTAMENTO DE GUIA MEIO FIO PRÉ MOLDADO EM CONCRETO E GUIA EM MEIO FIO PARA COTENÇÃO LATERAL, DIMENSÕES 100 CM X 15 CM X 13 CM X 30 CM | C41: M | D41: 241 | E41: 42.38 | F41: 20.7 | G41: 51.15 | I41: =ROUND('BDI principal'!D14,2) -> 20.7 | J41: =ROUND((ROUND(H41,2)*I41/100)+ROUND(H41,2),2) -> 0 | K41: =ROUND(D41*J41,2) -> 0 | L41: Item
...

Sheet Cronograma
A1: Prefeitura Municipal de Schroeder - SC
A2: Orcamento de obra - Silvio Pretti Est. OPP á Est. 5+17,90m
A3: Data: | B3: =DADOS!C3 -> 20/10/2022
A4: Empresa: | B4: =DADOS!C7 -> 0 | G4: Telefone: | H4: =DADOS!C9
A5: CNPJ: | B5: =DADOS!C8 | D5: Cidade: | E5: =DADOS!C13 -> 0 | H5: UF: | I5: =DADOS!C14 -> 0
A7: Item | B7: Etapa | C7: Total R$ | D7: % Mês 1 | E7: R$ Mês 1 | F7: % Mês 2 | G7: R$ Mês 2 | H7: % Mês 3 | I7: R$ Mês 3 | J7: % Total | K7: R$ Total
A8: 1 | B8: SILVIO PRETTI EST. OPP Á EST. 5+17,90M | C8: =Orçamento!K8 -> 0 | D8: 0 | E8: =C8*D8/100 -> 0 | F8: 0 | G8: =C8*F8/100 -> 0 | H8: 0 | I8: =C8*H8/100 -> 0 | J8: =D8+F8+H8 -> 0 | K8: =E8+G8+I8 -> 0
A9: Totais cronograma | C9: =SUM(C8:C8) -> 0 | D9: =SUM(E8:E8) -> 0 | F9: =SUM(G8:G8) -> 0 | H9: =SUM(I8:I8) -> 0 | J9: =(K9/C9)*100 -> #DIV/0! | K9: =SUM(K8:K8) -> 0

Sheet BDI principal
A1: Prefeitura Municipal de Schroeder - SC
A2: Orcamento de obra - Silvio Pretti Est. OPP á Est. 5+17,90m
A3: Data: | B3: =DADOS!C3 -> 20/10/2022
A4: Empresa: | B4: =DADOS!C7 -> 0 | G4: Telefone: | H4: =DADOS!C9
A5: CNPJ: | B5: =DADOS!C8 | D5: Cidade: | E5: =DADOS!C13 -> 0 | H5: UF: | I5: =DADOS!C14 -> 0
A7: Item | B7: 1º quartil | C7: 3º quartil | D7: Proposto | E7: Identificação
A8: AC | B8: 3.8 | C8: 4.67 | D8: 4.01 | E8: Administração Central | J8: =D8/100 -> 0.0401
A9: S+G | B9: 0.32 | C9: 0.74 | D9: 0.4 | E9: Seguro e Garantia | J9: =D9/100 -> 0.004
A10: R | B10: 0.5 | C10: 0.97 | D10: 0.56 | E10: Risco | J10: =D10/100 -> 0.0056
A11: DF | B11: 1.02 | C11: 1.21 | D11: 1.11 | E11: Despesas Financeiras | J11: =D11/100 -> 0.0111
A12: L | B12: 6.64 | C12: 8.69 | D12: 7.3 | E12: Lucro | J12: =D12/100 -> 0.073
A13: I* | B13: 5.65 | C13: 10.65 | D13: =I15+I18+I19 -> 5.65 | E13: Tributos * | J13: =D13/100 -> 0.0565
C14: Total | D14: =ROUND(((((1+J8+J9+J10)*(1+J11)*(1+J12)/(1-J15-J18))-1)*100),2) -> 20.7
F15: PIS e COFINS | I15: 3.65 | J15: =I15/100 -> 0.0365
F16: Alíquota ISS | I16: 2 | J16: =I16/100 -> 0.02
F17: Base de cálculo | I17: 100
F18: ISS Aplicável | I18: =((I17*I16)/100) -> 2 | J18: =I18/100 -> 0.02
F19: Cont. Prev. s/Rec.Bruta | I19: 0
E29: =DADOS!C11 -> 0
E30: =DADOS!C12 -> 0

Sheet BDI equipamentos
A1: Prefeitura Municipal de Schroeder - SC
A2: Orcamento de obra - Silvio Pretti Est. OPP á Est. 5+17,90m
A3: Data: | B3: =DADOS!C3 -> 20/10/2022
A4: Empresa: | B4: =DADOS!C7 -> 0 | G4: Telefone: | H4: =DADOS!C9
A5: CNPJ: | B5: =DADOS!C8 | D5: Cidade: | E5: =DADOS!C13 -> 0 | H5: UF: | I5: =DADOS!C14 -> 0
A7: Item | B7: 1º quartil | C7: 3º quartil | D7: Proposto | E7: Identificação
A8: AC | B8: 1.5 | C8: 4.49 | D8: 0 | E8: Administração Central | J8: =D8/100 -> 0
A9: S+G | B9: 0.3 | C9: 0.82 | D9: 0 | E9: Seguro e Garantia | J9: =D9/100 -> 0
A10: R | B10: 0.56 | C10: 0.89 | D10: 0 | E10: Risco | J10: =D10/100 -> 0
A11: DF | B11: 0.85 | C11: 1.11 | D11: 0 | E11: Despesas Financeiras | J11: =D11/100 -> 0
A12: L | B12: 3.5 | C12: 6.22 | D12: 0 | E12: Lucro | J12: =D12/100 -> 0
A13: I* | B13: 5.65 | C13: 10.65 | D13: =I15+I18+I19 -> 3.65 | E13: Tributos * | J13: =D13/100 -> 0.0365
C14: Total | D14: =ROUND(((((1+J8+J9+J10)*(1+J11)*(1+J12)/(1-J15))-1)*100),2) -> 3.79
F15: PIS e COFINS | I15: 3.65 | J15: =I15/100 -> 0.0365
F16: Cont. Prev. s/Rec.Bruta | I16: 0
E26: =DADOS!C11 -> 0
E27: =DADOS!C12 -> 0

Sheet BDI Diferenciado
A1: Prefeitura Municipal de Schroeder - SC
A2: Orcamento de obra - Silvio Pretti Est. OPP á Est. 5+17,90m
A3: Data: | B3: =DADOS!C3 -> 20/10/2022
A4: Empresa: | B4: =DADOS!C7 -> 0 | G4: Telefone: | H4: =DADOS!C9
A5: CNPJ: | B5: =DADOS!C8 | D5: Cidade: | E5: =DADOS!C13 -> 0 | H5: UF: | I5: =DADOS!C14 -> 0
A8: K1= | B8: 1.1428 | C8: Encargos sociais incidentes sobre a mão de obra
A9: k2= | B9: 0.2 | C9: Administração central (overhead)
A10: k3= | B10: 0.12 | C10: Margem bruta
A11: k4= | B11: 0 | C11: Impostos (PIS + COFINS + ISS)
A12: K | B12: =(((1+B8+B9)*(1+B10))/(1-B11)) -> 2.623936 | C12: {[(1+k1+k2)(1+k3)]/(1-k4)}
A13: TRDE | B13: =((1+B10)/(1-B11)) -> 1.12 | C13: [(1+k3)/(1-k4)]
E23: =DADOS!C11 -> 0
E24: =DADOS!C12 -> 0

Sheet Eventograma
A1: Prefeitura Municipal de Schroeder - SC
A2: Orcamento de obra - Silvio Pretti Est. OPP á Est. 5+17,90m
A3: Data: | B3: =DADOS!C3 -> 20/10/2022
A4: Empresa: | B4: =DADOS!C7 -> 0 | G4: Telefone: | H4: =DADOS!C9
A5: CNPJ: | B5: =DADOS!C8 | D5: Cidade: | E5: =DADOS!C13 -> 0 | H5: UF: | I5: =DADOS!C14 -> 0
J6: Frente 1
A7: Nível | B7: Item | C7: Descrição | D7: Unid. | E7: Preço Unit. (R$) | F7: Preço Total (R$) | G7: Título dos eventos | J7: 1 | K7: 2 | L7: 3 | M7: 4 | N7: 5 | O7: 6 | P7: Total
A8: Meta | B8: 1 | C8: SILVIO PRETTI EST. OPP Á EST. 5+17,90M
A9: Serviço | B9: 1.1 | C9: ADMINISTRAÇÃO LOCAL DA OBRA
A10: Item | B10: 1.1.1 | C10: LOCAÇÃO DE BANHEIRO QUÍMICO, INCLUSO 1 LIMPEZA SEMANAL, ENTREGA E RETIRADA | D10: Mês | E10: 1149.44 | F10: 3448.32 | G10: ADMINISTRAÇÃO LOCAL | P10: =SUM(J10:O10) -> 0
A11: Serviço | B11: 1.2 | C11: SERVIÇOS INICIAIS E DRENAGEM
A12: Item | B12: 1.2.1 | C12: PLACA DE OBRA EM CHAPA DE AÇO GALVANIZADO (2,40 M X 1,20 M), INCLUSO SARRAFO DE MADEIRA, PONTALETE, PLACA DE OBRA, PREÇO DE AÇO, CARPINTEIRO, SERVENTE, CONCRETO MAGRO. | D12: m2 | E12: 358.62 | F12: 1032.83 | G12: SERVIÇOS INICIAIS E DRENAGEM | P12: =SUM(J12:O12) -> 0
A13: Item | B13: 1.2.2 | C13: SERVIÇOS TOPOGRÁFICOS PARA PAVIMENTAÇÃO (LOCAÇÃO DO GREIDE E NIVELAMENTO), INCLUSIVE ACOMPANHAMENTO E NOTA DE SERVIÇOS. | D13: m2 | E13: 0.37 | F13: 436.23 | G13: SERVIÇOS INICIAIS E DRENAGEM | P13: =SUM(J13:O13) -> 0
A14: Item | B14: 1.2.3 | C14: REMOÇÃO DE RAÍZES/ÁRVORES (CONTAGEM DIRETA PROJETO) | D14: UN | E14: 80.05 | F14: 80.05 | G14: SERVIÇOS INICIAIS E DRENAGEM | P14: =SUM(J14:O14) -> 0
A15: Item | B15: 1.2.4 | C15: DEMOLIÇÃO MECÂNICANIZADA DE CONCRETO ARMADO, SEM REAPROVEITAMENTO (MEDIÇÃO DIRETA PROJETO) | D15: m³ | E15: 62.62 | F15: 102.07 | G15: SERVIÇOS INICIAIS E DRENAGEM | P15: =SUM(J15:O15) -> 0
A16: Item | B16: 1.2.5 | C16: TRANSPORTE DE ENTULHO DA DEMOLIÇÃO DE CONCRETO COM CAMINHÃO BASCULANTE, EM RODOVIA PAVIMENTADA, DMT CONSIDERADO 1,4KM | D16: M3XKM | E16: 1.97 | F16: 5.85 | G16: SERVIÇOS INICIAIS E DRENAGEM | P16: =SUM(J16:O16) -> 0
A17: Item | B17: 1.2.6 | C17: FECHAMENTO DE BOCA DE LOBO (COM TAMPA DE CONCRETO) - BASE SINAP CÓD. 97904 (CONTAGEM DIRETA PROJETO) | D17: un | E17: 224.97 | F17: 1799.76 | G17: SERVIÇOS INICIAIS E DRENAGEM | P17: =SUM(J17:O17) -> 0
A18: Item | B18: 1.2.7 | C18: ESCAVAÇÃO, CARGA DE MATERIAL DE 1ª CATEGORIA PARA BOTA FORA, COM TRATOR E CAÇAMBA 6 M³. ACRESCIDO 30% DE ÍNDICE DE EMPOLAMENTO DO MATERIAL | D18: M3 | E18: 5.77 | F18: 91.17 | G18: SERVIÇOS INICIAIS E DRENAGEM | P18: =SUM(J18:O18) -> 0
A19: Item | B19: 1.2.8 | C19: TRANSPORTE DE MATERIAL DE 1ª CATEGORIA PARA BOTA FORA, COM CAMINHÃO BASCULANTE 10 M³. DMT 1,8 KM | D19: M3XKM | E19: 1.83 | F19: 52.05 | G19: SERVIÇOS INICIAIS E DRENAGEM | P19: =SUM(J19:O19) -> 0
A20: Item | B20: 1.2.9 | C20: FORNECIMENTO E ASSENTAMENTO DE BRITA 2 PARA BERÇO EM TUBULAÇÃO, CONFORME PROJETO - PREPARO DE FUNDO DE VALA COM LARGURA MAIOR OU IGUAL A 1,5 M E MENOR QUE 2,5 M, COM CAMADA DE BRITA, LANÇAMENTO MECANIZADO. AF_08/2020 | D20: M3 | E20: 182.99 | F20: 197.63 | G20: SERVIÇOS INICIAIS E DRENAGEM | P20: =SUM(J20:O20) -> 0
A21: Item | B21: 1.2.10 | C21: TUBO DE CONCRETO (SIMPLES) PARA REDES COLETORAS DE ÁGUAS PLUVIAIS CLASSE PS1, ENCAIXE MACHO E FEMEA, DIÂMETRO DE 300MM, INSTALADO EM LOCAL COM BAIXO NÍVEL INTERFERÊNCIAS - FORNECIMENTO E ASSENTAMENTO | D21: m | E21: 73.6 | F21: 1324.8 | G21: SERVIÇOS INICIAIS E DRENAGEM | P21: =SUM(J21:O21) -> 0
A22: Item | B22: 1.2.11 | C22: ATERRO MECANIZADO DE VALA COM ESCAVADEIRA HIDRÁULICA, COM MATERIAL DE JAZIDA. INCLUSO 30% DE ÍNDICE DE EMPOLAMENTO DO SOLO. | D22: M3 | E22: 82.22 | F22: 1364.85 | G22: SERVIÇOS INICIAIS E DRENAGEM | P22: =SUM(J22:O22) -> 0
A23: Item | B23: 1.2.12 | C23: TRANSPORTE DE MATERIAL PARA ATERRO COM CAMINHÃO BASCULANTE 10 M³, EM VIA PAVIMENTADA, DMT ATÉ 30 KM, (UNIDADE: M3 X KM). AF_12/2016 - CONSIDERADO 12 KM | D23: M3XKM | E23: 1.83 | F23: 364.54 | G23: SERVIÇOS INICIAIS E DRENAGEM | P23: =SUM(J23:O23) -> 0
... A26: Item | B26: 1.2.15 | C26: CAIXA ENTERRADA DISTRIBUIDORA DE VAZÃO (SUMIDOUROS MÚLTIPLOS), RETANGULAR, EM ALVENARIA COM BLOCOS DE CONCRETO, DIMENSÕES INTERNAS: 0,60 X 0,60 X H=0,50 M. AF_12/2020 | D26: UN | E26: 536.28 | F26: 3753.96 | G26: PAVIMENTAÇÃO E BOCAS DE LOBO | P26: =SUM(J26:O26) -> 0
A27: Serviço | B27: 1.3 | C27: EXECUÇÃO DA SUB BASE E/OU SUB LEITO
A28: Item | B28: 1.3.1 | C28: ESCAVAÇÃO HORIZONTAL, INCLUINDO ESCARIFICAÇÃO, CARGA, DESCARGA E TRANSPORTE EM SOLO DE 2A CATEGORIA COM TRATOR DE ESTEIRAS (347HP/LÂMINA: 8,70M3) E CAMINHÃO BASCULANTE DE 14M3, DMT ATÉ 200M. (REFERENTE AO NIVELAMENTO DA VIA, PROFUNDIDADE DE 20CM). | D28: M3 | E28: 17.09 | F28: 4029.82 | G28: EXECUÇÃO DA SUB BASE E/OU SUB LEITO | P28: =SUM(J28:O28) -> 0
A29: Item | B29: 1.3.2 | C29: TRANSPORTE DE SOLOS INSERVÍVEIS PARA BOTA FORA, COM CAMINHÃO BASCULANTE 10 M³,EM VIA URBANA PAVIMENTADA, DMT ATÉ 30 KM (UNIDADE: M3 X KM). AF_12/2016 - CONSIDERADO 1,8 KM | D29: M3XKM | E29: 1.83 | F29: 776.73 | G29: EXECUÇÃO DA SUB BASE E/OU SUB LEITO | P29: =SUM(J29:O29) -> 0
A30: Item | B30: 1.3.3 | C30: EXECUÇÃO E COMPACTAÇÃO DE SUB BASE COM MACADAME SECO E=15CM | D30: M3 | E30: 134.89 | F30: 23855.3 | G30: EXECUÇÃO DA SUB BASE E/OU SUB LEITO | P30: =SUM(J30:O30) -> 0
A31: Item | B31: 1.3.4 | C31: TRANSPORTE DE SUB BASE COM CAMINHÃO BASCULANTE 10 M³, EM VIA PAVIMENTADA, DMT ATÉ 30 KM (UNIDADE: M3 X KM). AF_12/2016 - CONSIDERADO 12 KM, INCLUSO 30% DE ÍNDICE DE EMPOLAMENTO DO SOLO | D31: M3XKM | E31: 1.83 | F31: 5048.71 | G31: EXECUÇÃO DA SUB BASE E/OU SUB LEITO | P31: =SUM(J31:O31) -> 0
A32: Serviço | B32: 1.4 | C32: EXECUÇÃO BASE
A33: Item | B33: 1.4.1 | C33: EXECUÇÃO E COMPACTAÇÃO DE BASE (E = 15 CM) COM BRITA GRADUADA SIMPLES - EXCLUSIVE CARGA E TRANSPORTE | D33: M3 | E33: 150.96 | F33: 26697.28 | G33: EXECUÇÃO BASE | P33: =SUM(J33:O33) -> 0
A34: Item | B34: 1.4.2 | C34: TRANSPORTE LOCAL COM CAMINHÃO BASCULANTE 10 M³, EM VIA PAVIMENTADA PARA DISTÂNCIAS SUPERIORES, DMT ATÉ 30 KM (UNIDADE: M3XKM). AF_12/2016 - CONSIDERADO DMT 12 KM | D34: M3XKM | E34: 1.83 | F34: 3883.63 | G34: EXECUÇÃO BASE | P34: =SUM(J34:O34) -> 0
A35: Serviço | B35: 1.5 | C35: PAVIMENTAÇÃO
A36: Item | B36: 1.5.1 | C36: EXECUÇÃO DE IMPRIMAÇÃO COM ASFALTO DILUÍDO CM-30 - BASE SINAP CÓD. 96401. | D36: m2 | E36: 10.07 | F36: 11872.53 | G36: PAVIMENTAÇÃO E BOCAS DE LOBO | P36: =SUM(J36:O36) -> 0
A37: Item | B37: 1.5.2 | C37: EXECUÇÃO DA PINTURA DE LIGAÇÃO COM RR-2C | D37: M2 | E37: 2.85 | F37: 3360.15 | G37: PAVIMENTAÇÃO E BOCAS DE LOBO | P37: =SUM(J37:O37) -> 0
A38: Item | B38: 1.5.3 | C38: FORNECIMENTO E EXECUÇÃO (MATERIAL BETUMINOSO E AGREGADOS) E USINAGEM, E= 5,0 CM - CONCRETO BETUMINOSO USINADO A QUENTE (CBUQ) PARA PAVIMENTAÇÃO ASFALTICA - ROLO COMPACTADOR VIBRATÓRIO, ROLO COMPACTADOR DE PNEUS, RASTELEIRO, CAMINHÃO BASCULANTE 10 M³, VIBROACABADORA DE ASFALTO SOBRE ESTEIRAS | D38: M3 | E38: 1437.79 | F38: 84757.72 | G38: PAVIMENTAÇÃO E BOCAS DE LOBO | P38: =SUM(J38:O38) -> 0
A39: Item | B39: 1.5.4 | C39: TRANSPORTE DE MATERIAL ASFALTICO, COM CAMINHÃO COM CAPACIDADE DE 20000 L (CONSIDERADO DMT 35 KM) | D39: TXKM | E39: 1.86 | F39: 8913.62 | G39: PAVIMENTAÇÃO E BOCAS DE LOBO | P39: =SUM(J39:O39) -> 0
A40: Serviço | B40: 1.6 | C40: PASSEIO EM PAVER E GUIA DE MEIO FIO
A41: Item | B41: 1.6.1 | C41: FORNECIMENTO E ASSENTAMENTO DE GUIA MEIO FIO PRÉ MOLDADO EM CONCRETO E GUIA EM MEIO FIO PARA COTENÇÃO LATERAL, DIMENSÕES 100 CM X 15 CM X 13 CM X 30 CM | D41: M | E41: 51.15 | F41: 12327.15 | G41: PASSEIO EM PAVER E GUIA DE MEIO FIO | P41: =SUM(J41:O41) -> 0
A42: Item | B42: 1.6.2 | C42: LASTRO COM MATERIAL GRANULAR (PEDRA BRITADA N.2), APLICADO EM PISOS OU LAJES SOBRE SOLO, ESPESSURA DE *10 CM*. AF_08/2017 | D42: M3 | E42: 137.75 | F42: 3037.39 | G42: PASSEIO EM PAVER E GUIA DE MEIO FIO | P42: =SUM(J42:O42) -> 0
...

Sheet Repositório
A1: ='BDI principal'!D14 -> 20.7
A2: ='BDI equipamentos'!D14 -> 3.79
A3: ='BDI Diferenciado'!B12 -> 2.623936
A4: ='BDI Diferenciado'!B13 -> 1.12
