Workbook

Sheet DADOS
A1: Prefeitura Municipal de Schroeder - SC
A2: SEMOSU - Secretaria Municipal de Obras e Serviços Urbanos
A3: Data do documento: | C3: 24/05/2022
A4: Licitação número:
A5: Lote:
A6: Dados da licitante
A7: Razão social
A8: CNPJ:
A9: Telefone:
A10: E-Mail:
A11: Nome responsável:
A12: CPF responsável:
A13: Cidade licitante:
A14: UF licitante:

Sheet Orçamento
A1: Prefeitura Municipal de Schroeder - SC
A2: Orcamento de obra - Pavimentação Asfáltica Rua Mario Bagatolli - Trecho 01 Est. OPP à Est. 8+5,00m
A3: Data: | B3: =DADOS!C3
A4: Empresa: | B4: =DADOS!C7 | G4: Telefone: | H4: =DADOS!C9
A5: CNPJ: | B5: =DADOS!C8 | D5: Cidade: | E5: =DADOS!C13 | H5: UF: | I5: =DADOS!C14
A7: Item | B7: Descrição dos itens | C7: U.M. | D7: Qtde. | E7: Custo base R$ | F7: %BDI/K/TRDE Base | G7: Preço base R$ | H7: Custo Un. R$ | I7: %BDI/K/TRDE | J7: Preço Un. R$ | K7: Total R$
A8: 1 | B8: SERVIÇOS INICIAIS E DRENAGEM | K8: =SUM(K9:K23) | L8: Etapa
A9: 1.1 | B9: PLACA DE OBRA EM CHAPA DE AÇO GALVANIZADO (2,40 M X 1,20 M), INCLUSO SARRAFO DE MADEIRA, PONTALETE, PLACA DE OBRA, PREÇO DE AÇO, CARPINTEIRO, SERVENTE, CONCRETO MAGRO. | C9: M2 | D9: 2.88 | E9: 337.54 | F9: 20.7 | G9: 407.41 | I9: =ROUND('BDI principal'!D14,2) | J9: =ROUND((ROUND(H9,2)*I9/100)+ROUND(H9,2),2) | K9: =ROUND(D9*J9,2) | L9: Item
A10: 1.2 | B10: SERVIÇOS TOPOGRÁFICOS PARA PAVIMENTAÇÃO (LOCAÇÃO DO GREIDE E NIVELAMENTO), INCLUSIVE ACOMPANHAMENTO E NOTA DE SERVIÇOS. | C10: M2 | D10: 1710.73 | E10: 0.34 | F10: 20.7 | G10: 0.41 | I10: =ROUND('BDI principal'!D14,2) | J10: =ROUND((ROUND(H10,2)*I10/100)+ROUND(H10,2),2) | K10: =ROUND(D10*J10,2) | L10: Item
A11: 1.3 | B11: FECHAMENTO DE BOCA DE LOBO (COM TAMPA DE CONCRETO) - BASE SINAP CÓD. 97904 (CONTAGEM DIRETA PROJETO) | C11: UN | D11: 1 | E11: 217.06 | F11: 20.7 | G11: 261.99 | I11: =ROUND('BDI principal'!D14,2) | J11: =ROUND((ROUND(H11,2)*I11/100)+ROUND(H11,2),2) | K11: =ROUND(D11*J11,2) | L11: Item
A12: 1.4 | B12: ESCAVAÇÃO, CARGA DE MATERIAL DE 1ª CATEGORIA PARA BOTA FORA, COM TRATOR E CAÇAMBA 6 M³, ACRESCIDO 30% DE ÍNDICE DE EMPOLAMENTO DO MATERIAL. | C12: M3 | D12: 273.08 | E12: 5.82 | F12: 20.7 | G12: 7.02 | I12: =ROUND('BDI principal'!D14,2) | J12: =ROUND((ROUND(H12,2)*I12/100)+ROUND(H12,2),2) | K12: =ROUND(D12*J12,2) | L12: Item
A13: 1.5 | B13: TRANSPORTE DE MATERIAL DE 1ª CATEGORIA PARA BOTA FORA, COM CAMINHÃO BASCULANTE 10 M³. DMT 1,8 KM | C13: M3XKM | D13: 491.54 | E13: 2.27 | F13: 20.7 | G13: 2.74 | I13: =ROUND('BDI principal'!D14,2) | J13: =ROUND((ROUND(H13,2)*I13/100)+ROUND(H13,2),2) | K13: =ROUND(D13*J13,2) | L13: Item
A14: 1.6 | B14: FORNECIMENTO E ASSENTAMENTO DE BRITA 2 PARA BERÇO EM TUBULAÇÃO, CONFORME PROJETO - PREPARO DE FUNDO DE VALA COM LARGURA MAIOR OU IGUAL A 1,5 M E MENOR QUE 2,5 M, COM CAMADA DE BRITA, LANÇAMENTO MECANIZADO. AF_08/2020 | C14: M3 | D14: 2.11 | E14: 181.14 | F14: 20.7 | G14: 218.64 | I14: =ROUND('BDI principal'!D14,2) | J14: =ROUND((ROUND(H14,2)*I14/100)+ROUND(H14,2),2) | K14: =ROUND(D14*J14,2) | L14: Item
A15: 1.7 | B15: TUBO DE CONCRETO (SIMPLES) PARA REDES COLETORAS DE ÁGUAS PLUVIAIS CLASSE PS1, ENCAIXE MACHO E FEMEA, DIÂMETRO DE 300MM, INSTALADO EM LOCAL COM BAIXO NÍVEL INTERFERÊNCIAS - FORNECIMENTO E ASSENTAMENTO | C15: M | D15: 7 | E15: 68.51 | F15: 20.7 | G15: 82.69 | I15: =ROUND('BDI principal'!D14,2) | J15: =ROUND((ROUND(H15,2)*I15/100)+ROUND(H15,2),2) | K15: =ROUND(D15*J15,2) | L15: Item
A16: 1.8 | B16: TUBO DE CONCRETO (SIMPLES) PARA REDES COLETORAS DE ÁGUAS PLUVIAIS CLASSE PS1, ENCAIXE MACHO E FEMEA, DIÂMETRO DE 400MM, INSTALADO EM LOCAL COM BAIXO NÍVEL INTERFERÊNCIAS - FORNECIMENTO E ASSENTAMENTO. | C16: M | D16: 189 | E16: 90.76 | F16: 20.7 | G16: 109.55 | I16: =ROUND('BDI principal'!D14,2) | J16: =ROUND((ROUND(H16,2)*I16/100)+ROUND(H16,2),2) | K16: =ROUND(D16*J16,2) | L16: Item
A17: 1.9 | B17: TUBO DE CONCRETO (SIMPLES) PARA REDES COLETORAS DE ÁGUAS PLUVIAIS CLASSE PS1, ENCAIXE MACHO E FEMEA, DIÂMETRO DE 600MM, INSTALADO EM LOCAL COM BAIXO NÍVEL INTERFERÊNCIAS - FORNECIMENTO E ASSENTAMENTO. | C17: M | D17: 22 | E17: 128.83 | F17: 20.7 | G17: 155.5 | I17: =ROUND('BDI principal'!D14,2) | J17: =ROUND((ROUND(H17,2)*I17/100)+ROUND(H17,2),2) | K17: =ROUND(D17*J17,2) | L17: Item
A18: 1.10 | B18: GEOTEXTIL NAO TECIDO AGULHADO DE FILAMENTOS CONTINUOS 100% POLIESTER, RESITENCIA A TRACAO = 10 KN/M | C18: M2 | D18: 107.55 | E18: 7.41 | F18: 20.7 | G18: 8.94 | I18: =ROUND('BDI principal'!D14,2) | J18: =ROUND((ROUND(H18,2)*I18/100)+ROUND(H18,2),2) | K18: =ROUND(D18*J18,2) | L18: Item
A19: 1.11 | B19: ESCAVAÇÃO E CARGA DE MATERIAL DE 1ª CATEGORIA, COM TRATOR E CAÇAMBA 6 M³, ACRESCIDO 30% DE ÍNDICE DE EMPOLAMENTO DO MATERIAL (O INSUMO SERÁ FORNECIDO PELO MUNICÍPIO) | C19: M3 | D19: 253.36 | E19: 5.33 | F19: 20.7 | G19: 6.43 | I19: =ROUND('BDI principal'!D14,2) | J19: =ROUND((ROUND(H19,2)*I19/100)+ROUND(H19,2),2) | K19: =ROUND(D19*J19,2) | L19: Item
A20: 1.12 | B20: ESPALHAMENTO DE MATERIAL DE 1ª CATEGORIA COM TRATOR DE ESTEIRAS | C20: M3 | D20: 182.4 | E20: 1.46 | F20: 20.7 | G20: 1.76 | I20: =ROUND('BDI principal'!D14,2) | J20: =ROUND((ROUND(H20,2)*I20/100)+ROUND(H20,2),2) | K20: =ROUND(D20*J20,2) | L20: Item
A21: 1.13 | B21: TRANSPORTE DE SEIXO COM CAMINHÃO BASCULANTE 10 M³, EM VIA PAVIMENTADA, DMT ATÉ 30 KM. (UNIDADE: M3 X KM). AF_12/2016 - CONSIDERADO 7 KM | C21: M3XKM | D21: 1773.52 | E21: 2.27 | F21: 20.7 | G21: 2.74 | I21: =ROUND('BDI principal'!D14,2) | J21: =ROUND((ROUND(H21,2)*I21/100)+ROUND(H21,2),2) | K21: =ROUND(D21*J21,2) | L21: Item
A22: 1.14 | B22: CAIXA PARA BOCA DE LOBO SIMPLES RETANGULAR, EM ALVENARIA COM TIJOLOS CERÂMICOS MACIÇOS, (DIMENSÕES CONFORME PROJETO) | C22: UN | D22: 12 | E22: 956.01 | F22: 20.7 | G22: 1153.9 | I22: =ROUND('BDI principal'!D14,2) | J22: =ROUND((ROUND(H22,2)*I22/100)+ROUND(H22,2),2) | K22: =ROUND(D22*J22,2) | L22: Item
A23: 1.15 | B23: GRELHA DE FERRO FUNDIDO SIMPLES COM REQUADRO, ASSENTAMENTO EM ARGAMASSA CIMENTO/AREIA 1:4 (DIMENSÕES CONFORME PROJETO) - FORNECIMENTO E INSTALAÇÃO | C23: UN | D23: 12 | E23: 365.59 | F23: 20.7 | G23: 441.27 | I23: =ROUND('BDI principal'!D14,2) | J23: =ROUND((ROUND(H23,2)*I23/100)+ROUND(H23,2),2) | K23: =ROUND(D23*J23,2) | L23: Item
A24: 2 | B24: EXECUÇÃO DA SUB BASE E/OU SUB LEITO | K24: =SUM(K25:K31) | L24: Etapa
A25: 2.1 | B25: ESCAVAÇÃO E CARGA DE SOLOS INSERVÍVEIS NAS PISTAS PARA BOTA FORA, DMT < 200 M, ACRESCIDO 30% DE ÍNDICE DE EMPOLAMENTO DO MATERIAL (REFERENTE AO NIVELAMENTO DA VIA, PROFUNDIDADE DE 20 CM E REFORÇO DOS BORDOS, PROFUNDIDADE DE 40 CM) | C25: M3 | D25: 873.79 | E25: 5.82 | F25: 20.7 | G25: 7.02 | I25: =ROUND('BDI principal'!D14,2) | J25: =ROUND((ROUND(H25,2)*I25/100)+ROUND(H25,2),2) | K25: =ROUND(D25*J25,2) | L25: Item
A26: 2.2 | B26: TRANSPORTE DE SOLOS INSERVÍVEIS PARA BOTA FORA, COM CAMINHÃO BASCULANTE 10 M³,EM VIA URBANA PAVIMENTADA, DMT ATÉ 30 KM. (UNIDADE: M3 X KM). AF_12/2016 - CONSIDERADO 1,8 KM | C26: M3XKM | D26: 1572.82 | E26: 2.27 | F26: 20.7 | G26: 2.74 | I26: =ROUND('BDI principal'!D14,2) | J26: =ROUND((ROUND(H26,2)*I26/100)+ROUND(H26,2),2) | K26: =ROUND(D26*J26,2) | L26: Item
A27: 2.3 | B27: EXECUÇÃO E COMPACTAÇÃO DE REFORÇO DE SUBLEITO NOS BORDOS (2,5 M X 0,40 M NOS BORDOS)- (INSUMO FORNECIDO PELO MUNIÍPIO DE SCHROEDER) | C27: M3 | D27: 330 | E27: 7.18 | F27: 20.7 | G27: 8.67 | I27: =ROUND('BDI principal'!D14,2) | J27: =ROUND((ROUND(H27,2)*I27/100)+ROUND(H27,2),2) | K27: =ROUND(D27*J27,2) | L27: Item
A28: 2.4 | B28: REGULARIZAÇÃO E COMPACTAÇÃO DE SUBLEITO DE SOLO EXISTENTE (MEDIÇÃO DIRETA PROJETO) | C28: M2 | D28: 1710.73 | E28: 2.13 | F28: 20.7 | G28: 2.57 | I28: =ROUND('BDI principal'!D14,2) | J28: =ROUND((ROUND(H28,2)*I28/100)+ROUND(H28,2),2) | K28: =ROUND(D28*J28,2) | L28: Item
A29: 2.5 | B29: ESPALHAMENTO DE MATERIAL DE 1ª CATEGORIA COM TRATOR DE ESTEIRAS | C29: M3 | D29: 330 | E29: 1.46 | F29: 20.7 | G29: 1.76 | I29: =ROUND('BDI principal'!D14,2) | J29: =ROUND((ROUND(H29,2)*I29/100)+ROUND(H29,2),2) | K29: =ROUND(D29*J29,2) | L29: Item
A30: 2.6 | B30: TRANSPORTE DE SEIXO COM CAMINHÃO BASCULANTE 10 M³, EM VIA PAVIMENTADA, DMT ATÉ 30 KM, (UNIDADE: M3 X KM). AF_12/2016 - CONSIDERADO 7 KM | C30: M3XKM | D30: 3003 | E30: 2.27 | F30: 20.7 | G30: 2.74 | I30: =ROUND('BDI principal'!D14,2) | J30: =ROUND((ROUND(H30,2)*I30/100)+ROUND(H30,2),2) | K30: =ROUND(D30*J30,2) | L30: Item
A31: 2.7 | B31: ESCAVAÇÃO E CARGA DE MATERIAL DE 1ª CATEGORIA, COM TRATOR E CAÇAMBA 6 M³, ACRESCIDO 30% DE ÍNDICE DE EMPOLAMENTO DO MATERIAL (O INSUMO SERÁ FORNECIDO PELO MUNICÍPIO) | C31: M3 | D31: 429 | E31: 5.33 | F31: 20.7 | G31: 6.43 | I31: =ROUND('BDI principal'!D14,2) | J31: =ROUND((ROUND(H31,2)*I31/100)+ROUND(H31,2),2) | K31: =ROUND(D31*J31,2) | L31: Item
A32: 3 | B32: PAVIMENTAÇÃO | K32: =SUM(K33:K38) | L32: Etapa
A33: 3.1 | B33: EXECUÇÃO E COMPACTAÇÃO DE BASE (E = 15 CM) COM BRITA GRADUADA SIMPLES - EXCLUSIVE CARGA E TRANSPORTE | C33: M3 | D33: 256.61 | E33: 151.44 | F33: 20.7 | G33: 182.79 | I33: =ROUND('BDI principal'!D14,2) | J33: =ROUND((ROUND(H33,2)*I33/100)+ROUND(H33,2),2) | K33: =ROUND(D33*J33,2) | L33: Item
A34: 3.2 | B34: TRANSPORTE LOCAL COM CAMINHÃO BASCULANTE 10 M³, EM VIA PAVIMENTADA PARA DISTÂNCIAS SUPERIORES, DMT ATÉ 30 KM (UNIDADE: M3XKM). AF_12/2016 - CONSIDERADO DMT 10 KM | C34: M3XKM | D34: 2566.1 | E34: 2.27 | F34: 20.7 | G34: 2.74 | I34: =ROUND('BDI principal'!D14,2) | J34: =ROUND((ROUND(H34,2)*I34/100)+ROUND(H34,2),2) | K34: =ROUND(D34*J34,2) | L34: Item
A35: 3.3 | B35: EXECUÇÃO DE IMPRIMAÇÃO COM ASFALTO DILUÍDO CM-30 - BASE SINAP CÓD. 96401. | C35: M2 | D35: 1710.73 | E35: 9.43 | F35: 20.7 | G35: 11.38 | I35: =ROUND('BDI principal'!D14,2) | J35: =ROUND((ROUND(H35,2)*I35/100)+ROUND(H35,2),2) | K35: =ROUND(D35*J35,2) | L35: Item
A36: 3.4 | B36: EXECUÇÃO DA PINTURA DE LIGAÇÃO COM RR-2C | C36: M2 | D36: 1710.73 | E36: 2.79 | F36: 20.7 | G36: 3.37 | I36: =ROUND('BDI principal'!D14,2) | J36: =ROUND((ROUND(H36,2)*I36/100)+ROUND(H36,2),2) | K36: =ROUND(D36*J36,2) | L36: Item
A37: 3.5 | B37: FORNECIMENTO E EXECUÇÃO (MATERIAL BETUMINOSO E AGREGADOS) E USINAGEM, E= 5,0 CM - CONCRETO BETUMINOSO USINADO A QUENTE (CBUQ) PARA PAVIMENTAÇÃO ASFALTICA - ROLO COMPACTADOR VIBRATÓRIO, ROLO COMPACTADOR DE PNEUS, RASTELEIRO, CAMINHÃO BASCULANTE 10 M³, VIBROACABADORA DE ASFALTO SOBRE ESTEIRAS | C37: M3 | D37: 85.54 | E37: 1434.95 | F37: 20.7 | G37: 1731.98 | I37: =ROUND('BDI principal'!D14,2) | J37: =ROUND((ROUND(H37,2)*I37/100)+ROUND(H37,2),2) | K37: =ROUND(D37*J37,2) | L37: Item
A38: 3.6 | B38: TRANSPORTE DE MATERIAL ASFALTICO, COM CAMINHÃO COM CAPACIDADE DE 20000 L (CONSIDERADO DMT 35 KM) | C38: TXKM | D38: 6953.87 | E38: 1.96 | F38: 20.7 | G38: 2.37 | I38: =ROUND('BDI principal'!D14,2) | J38: =ROUND((ROUND(H38,2)*I38/100)+ROUND(H38,2),2) | K38: =ROUND(D38*J38,2) | L38: Item
A39: 4 | B39: GUIA DE MEIO FIO | K39: =SUM(K40:K40) | L39: Etapa
A40: 4.1 | B40: FORNECIMENTO E ASSENTAMENTO DE GUIA MEIO FIO PRÉ MOLDADO EM CONCRETO E GUIA EM MEIO FIO PARA COTENÇÃO LATERAL, DIMENSÕES 100 CM X 15 CM X 13 CM X 30 CM | C40: M | D40: 346 | E40: 47.66 | F40: 20.7 | G40: 57.53 | I40: =ROUND('BDI principal'!D14,2) | J40: =ROUND((ROUND(H40,2)*I40/100)+ROUND(H40,2),2) | K40: =ROUND(D40*J40,2) | L40: Item
A41: 5 | B41: SINALIZAÇÃO VIARIA | K41: =SUM(K42:K46) | L41: Etapa
...

Sheet Cronograma
A1: Prefeitura Municipal de Schroeder - SC
A2: Orcamento de obra - Pavimentação Asfáltica Rua Mario Bagatolli - Trecho 01 Est. OPP à Est. 8+5,00m
A3: Data: | B3: =DADOS!C3
A4: Empresa: | B4: =DADOS!C7 | G4: Telefone: | H4: =DADOS!C9
A5: CNPJ: | B5: =DADOS!C8 | D5: Cidade: | E5: =DADOS!C13 | H5: UF: | I5: =DADOS!C14
A7: Item | B7: Etapa | C7: Total R$ | D7: % Mês 1 | E7: R$ Mês 1 | F7: % Mês 2 | G7: R$ Mês 2 | H7: % Mês 3 | I7: R$ Mês 3 | J7: % Total | K7: R$ Total
A8: 1 | B8: SERVIÇOS INICIAIS E DRENAGEM | C8: =Orçamento!K8 | D8: 90 | E8: =C8*D8/100 | F8: 10 | G8: =C8*F8/100 | H8: 0 | I8: =C8*H8/100 | J8: =D8+F8+H8 | K8: =E8+G8+I8
A9: 2 | B9: EXECUÇÃO DA SUB BASE E/OU SUB LEITO | C9: =Orçamento!K24 | D9: 40 | E9: =C9*D9/100 | F9: 60 | G9: =C9*F9/100 | H9: 0 | I9: =C9*H9/100 | J9: =D9+F9+H9 | K9: =E9+G9+I9
A10: 3 | B10: PAVIMENTAÇÃO | C10: =Orçamento!K32 | D10: 0 | E10: =C10*D10/100 | F10: 40 | G10: =C10*F10/100 | H10: 60 | I10: =C10*H10/100 | J10: =D10+F10+H10 | K10: =E10+G10+I10
A11: 4 | B11: GUIA DE MEIO FIO | C11: =Orçamento!K39 | D11: 80 | E11: =C11*D11/100 | F11: 20 | G11: =C11*F11/100 | H11: 0 | I11: =C11*H11/100 | J11: =D11+F11+H11 | K11: =E11+G11+I11
A12: 5 | B12: SINALIZAÇÃO VIARIA | C12: =Orçamento!K41 | D12: 0 | E12: =C12*D12/100 | F12: 0 | G12: =C12*F12/100 | H12: 100 | I12: =C12*H12/100 | J12: =D12+F12+H12 | K12: =E12+G12+I12
A13: Totais cronograma | C13: =SUM(C8:C12) | D13: =SUM(E8:E12) | F13: =SUM(G8:G12) | H13: =SUM(I8:I12) | J13: =(K13/C13)*100 | K13: =SUM(K8:K12)

Sheet BDI principal
A1: Prefeitura Municipal de Schroeder - SC
A2: Orcamento de obra - Pavimentação Asfáltica Rua Mario Bagatolli - Trecho 01 Est. OPP à Est. 8+5,00m
A3: Data: | B3: =DADOS!C3
A4: Empresa: | B4: =DADOS!C7 | G4: Telefone: | H4: =DADOS!C9
A5: CNPJ: | B5: =DADOS!C8 | D5: Cidade: | E5: =DADOS!C13 | H5: UF: | I5: =DADOS!C14
A7: Item | B7: 1º quartil | C7: 3º quartil | D7: Proposto | E7: Identificação
A8: AC | B8: 3.8 | C8: 4.67 | D8: 4.01 | E8: Administração Central | J8: =D8/100
A9: S+G | B9: 0.32 | C9: 0.74 | D9: 0.4 | E9: Seguro e Garantia | J9: =D9/100
A10: R | B10: 0.5 | C10: 0.97 | D10: 0.56 | E10: Risco | J10: =D10/100
A11: DF | B11: 1.02 | C11: 1.21 | D11: 1.11 | E11: Despesas Financeiras | J11: =D11/100
A12: L | B12: 6.64 | C12: 8.69 | D12: 7.3 | E12: Lucro | J12: =D12/100
A13: I* | B13: 5.65 | C13: 10.65 | D13: =I15+I18+I19 | E13: Tributos * | J13: =D13/100
C14: Total | D14: =ROUND(((((1+J8+J9+J10)*(1+J11)*(1+J12)/(1-J15-J18))-1)*100),2)
F15: PIS e COFINS | I15: 3.65 | J15: =I15/100
F16: Alíquota ISS | I16: 2 | J16: =I16/100
F17: Base de cálculo | I17: 100
F18: ISS Aplicável | I18: =((I17*I16)/100) -> 2 | J18: =I18/100
F19: Cont. Prev. s/Rec.Bruta | I19: 0
E29: =DADOS!C11
E30: =DADOS!C12

Sheet BDI equipamentos
A1: Prefeitura Municipal de Schroeder - SC
A2: Orcamento de obra - Pavimentação Asfáltica Rua Mario Bagatolli - Trecho 01 Est. OPP à Est. 8+5,00m
A3: Data: | B3: =DADOS!C3
A4: Empresa: | B4: =DADOS!C7 | G4: Telefone: | H4: =DADOS!C9
A5: CNPJ: | B5: =DADOS!C8 | D5: Cidade: | E5: =DADOS!C13 | H5: UF: | I5: =DADOS!C14
A7: Item | B7: 1º quartil | C7: 3º quartil | D7: Proposto | E7: Identificação
A8: AC | B8: 1.5 | C8: 4.49 | D8: 0 | E8: Administração Central | J8: =D8/100
A9: S+G | B9: 0.3 | C9: 0.82 | D9: 0 | E9: Seguro e Garantia | J9: =D9/100
A10: R | B10: 0.56 | C10: 0.89 | D10: 0 | E10: Risco | J10: =D10/100
A11: DF | B11: 0.85 | C11: 1.11 | D11: 0 | E11: Despesas Financeiras | J11: =D11/100
A12: L | B12: 3.5 | C12: 6.22 | D12: 0 | E12: Lucro | J12: =D12/100
A13: I* | B13: 5.65 | C13: 10.65 | D13: =I15+I18+I19 | E13: Tributos * | J13: =D13/100
C14: Total | D14: =ROUND(((((1+J8+J9+J10)*(1+J11)*(1+J12)/(1-J15))-1)*100),2)
F15: PIS e COFINS | I15: 3.65 | J15: =I15/100
F16: Cont. Prev. s/Rec.Bruta | I16: 0
E26: =DADOS!C11
E27: =DADOS!C12

Sheet BDI Diferenciado
A1: Prefeitura Municipal de Schroeder - SC
A2: Orcamento de obra - Pavimentação Asfáltica Rua Mario Bagatolli - Trecho 01 Est. OPP à Est. 8+5,00m
A3: Data: | B3: =DADOS!C3
A4: Empresa: | B4: =DADOS!C7 | G4: Telefone: | H4: =DADOS!C9
A5: CNPJ: | B5: =DADOS!C8 | D5: Cidade: | E5: =DADOS!C13 | H5: UF: | I5: =DADOS!C14
A8: K1= | B8: 1.1428 | C8: Encargos sociais incidentes sobre a mão de obra
A9: k2= | B9: 0.2 | C9: Administração central (overhead)
A10: k3= | B10: 0.12 | C10: Margem bruta
A11: k4= | B11: 0 | C11: Impostos (PIS + COFINS + ISS)
A12: K | B12: =(((1+B8+B9)*(1+B10))/(1-B11)) | C12: {[(1+k1+k2)(1+k3)]/(1-k4)}
A13: TRDE | B13: =((1+B10)/(1-B11)) | C13: [(1+k3)/(1-k4)]
E23: =DADOS!C11
E24: =DADOS!C12

Sheet Repositório
A1: ='BDI principal'!D14
A2: ='BDI equipamentos'!D14
A3: ='BDI Diferenciado'!B12
A4: ='BDI Diferenciado'!B13
